<?xml version="1.0" encoding="UTF-8"?>
<Capabilities xmlns="http://www.opengis.net/wmts/1.0"
	xmlns:ows="http://www.opengis.net/ows/1.1"
	xmlns:xlink="http://www.w3.org/1999/xlink"
	xmlns:xsi="http://www.w3.org/2001/XMLSchema-instance"
	xmlns:gml="http://www.opengis.net/gml"
	xsi:schemaLocation="http://www.opengis.net/wmts/1.0 http://schemas.opengis.net/wmts/1.0/wmtsGetCapabilities_response.xsd"
	version="1.0.0">
  <!-- Service Identification --> 
 <ows:ServiceIdentification>
	<ows:Title>Verint_Verint_topo_Hybrid</ows:Title>
	<ows:ServiceType>OGC WMTS</ows:ServiceType>
	<ows:ServiceTypeVersion>1.0.0</ows:ServiceTypeVersion>
</ows:ServiceIdentification> <!-- Operations Metadata --> <ows:OperationsMetadata>
	<ows:Operation name="GetCapabilities">
		<ows:DCP>
			<ows:HTTP>
				<ows:Get xlink:href="https://map.stjohns.ca/mapsrv/rest/services/Verint/Verint_topo_Hybrid/MapServer/WMTS/1.0.0/WMTSCapabilities.xml">
					<ows:Constraint name="GetEncoding">
						<ows:AllowedValues>
							<ows:Value>RESTful</ows:Value>
						</ows:AllowedValues>
					</ows:Constraint>
				</ows:Get>
                <!-- add KVP binding in 10.1 -->
                <ows:Get xlink:href="https://map.stjohns.ca/mapsrv/rest/services/Verint/Verint_topo_Hybrid/MapServer/WMTS?">
                  <ows:Constraint name="GetEncoding">
                    <ows:AllowedValues>
                      <ows:Value>KVP</ows:Value>
                    </ows:AllowedValues>
                  </ows:Constraint>
                </ows:Get>
    		</ows:HTTP>
    </ows:DCP>
	</ows:Operation>
	<ows:Operation name="GetTile">
		<ows:DCP>
			<ows:HTTP>
				<ows:Get xlink:href="https://map.stjohns.ca/mapsrv/rest/services/Verint/Verint_topo_Hybrid/MapServer/WMTS/tile/1.0.0/">
					<ows:Constraint name="GetEncoding">
						<ows:AllowedValues>
							<ows:Value>RESTful</ows:Value>
						</ows:AllowedValues>
					</ows:Constraint>
				</ows:Get>
                <ows:Get xlink:href="https://map.stjohns.ca/mapsrv/rest/services/Verint/Verint_topo_Hybrid/MapServer/WMTS?">
                  <ows:Constraint name="GetEncoding">
                    <ows:AllowedValues>
                      <ows:Value>KVP</ows:Value>
                    </ows:AllowedValues>
                  </ows:Constraint>
                </ows:Get>
            </ows:HTTP>
		</ows:DCP>
	</ows:Operation>
</ows:OperationsMetadata> 
<Contents>
  <!--Layer-->  
  <Layer>
    <ows:Title>Verint_Verint_topo_Hybrid</ows:Title> 
    <ows:Identifier>Verint_Verint_topo_Hybrid</ows:Identifier>
    <ows:BoundingBox crs="urn:ogc:def:crs:EPSG::32181">
	  <ows:LowerCorner>294981.8790289427 5239406.979761477</ows:LowerCorner>
			<ows:UpperCorner>335999.8790289427 5280424.979761477</ows:UpperCorner>
		</ows:BoundingBox>  
      <ows:WGS84BoundingBox crs="urn:ogc:def:crs:OGC:2:84">
      <ows:LowerCorner>-53.13072386965378 47.29325744177098</ows:LowerCorner>
      <ows:UpperCorner>-52.58457003298577 47.66296955845013</ows:UpperCorner>
    </ows:WGS84BoundingBox>
    <Style isDefault="true">
      <ows:Title>Default Style</ows:Title>
      <ows:Identifier>default</ows:Identifier>
    </Style>
    <Format>image/jpgpng</Format>
    <TileMatrixSetLink>
      <TileMatrixSet>default028mm</TileMatrixSet>
    </TileMatrixSetLink>
      <ResourceURL format="image/jpgpng" resourceType="tile" template="https://map.stjohns.ca/mapsrv/rest/services/Verint/Verint_topo_Hybrid/MapServer/WMTS/tile/1.0.0/Verint_Verint_topo_Hybrid/{Style}/{TileMatrixSet}/{TileMatrix}/{TileRow}/{TileCol}" />
  </Layer> 
   <!--TileMatrixSet-->
   <TileMatrixSet>
     <ows:Title>TileMatrix using 0.28mm</ows:Title>
     <ows:Abstract>The tile matrix set that has scale values calculated based on the dpi defined by OGC specification (dpi assumes 0.28mm as the physical distance of a pixel).</ows:Abstract> 
     <ows:Identifier>default028mm</ows:Identifier>
     <ows:SupportedCRS>urn:ogc:def:crs:EPSG::32181</ows:SupportedCRS>
      <TileMatrix>
          <ows:Identifier>0</ows:Identifier>
          <ScaleDenominator>472471.18303754483</ScaleDenominator>
          <TopLeftCorner>-5317800.0 1.00011E7</TopLeftCorner>  
          <TileWidth>256</TileWidth> 
          <TileHeight>256</TileHeight>
          <MatrixWidth>167</MatrixWidth> 
            <MatrixHeight>141</MatrixHeight>
          </TileMatrix>
          <TileMatrix>
          <ows:Identifier>1</ows:Identifier>
          <ScaleDenominator>236235.59151877242</ScaleDenominator>
          <TopLeftCorner>-5317800.0 1.00011E7</TopLeftCorner>  
          <TileWidth>256</TileWidth> 
          <TileHeight>256</TileHeight>
          <MatrixWidth>334</MatrixWidth> 
            <MatrixHeight>282</MatrixHeight>
          </TileMatrix>
          <TileMatrix>
          <ows:Identifier>2</ows:Identifier>
          <ScaleDenominator>118117.79575938621</ScaleDenominator>
          <TopLeftCorner>-5317800.0 1.00011E7</TopLeftCorner>  
          <TileWidth>256</TileWidth> 
          <TileHeight>256</TileHeight>
          <MatrixWidth>668</MatrixWidth> 
            <MatrixHeight>563</MatrixHeight>
          </TileMatrix>
          <TileMatrix>
          <ows:Identifier>3</ows:Identifier>
          <ScaleDenominator>60476.31142880573</ScaleDenominator>
          <TopLeftCorner>-5317800.0 1.00011E7</TopLeftCorner>  
          <TileWidth>256</TileWidth> 
          <TileHeight>256</TileHeight>
          <MatrixWidth>1305</MatrixWidth> 
            <MatrixHeight>1099</MatrixHeight>
          </TileMatrix>
          <TileMatrix>
          <ows:Identifier>4</ows:Identifier>
          <ScaleDenominator>30238.155714402867</ScaleDenominator>
          <TopLeftCorner>-5317800.0 1.00011E7</TopLeftCorner>  
          <TileWidth>256</TileWidth> 
          <TileHeight>256</TileHeight>
          <MatrixWidth>2609</MatrixWidth> 
            <MatrixHeight>2197</MatrixHeight>
          </TileMatrix>
          <TileMatrix>
          <ows:Identifier>5</ows:Identifier>
          <ScaleDenominator>15119.077857201433</ScaleDenominator>
          <TopLeftCorner>-5317800.0 1.00011E7</TopLeftCorner>  
          <TileWidth>256</TileWidth> 
          <TileHeight>256</TileHeight>
          <MatrixWidth>5217</MatrixWidth> 
            <MatrixHeight>4394</MatrixHeight>
          </TileMatrix>
          <TileMatrix>
          <ows:Identifier>6</ows:Identifier>
          <ScaleDenominator>7559.538928600717</ScaleDenominator>
          <TopLeftCorner>-5317800.0 1.00011E7</TopLeftCorner>  
          <TileWidth>256</TileWidth> 
          <TileHeight>256</TileHeight>
          <MatrixWidth>10434</MatrixWidth> 
            <MatrixHeight>8788</MatrixHeight>
          </TileMatrix>
          <TileMatrix>
          <ows:Identifier>7</ows:Identifier>
          <ScaleDenominator>3779.7694643003583</ScaleDenominator>
          <TopLeftCorner>-5317800.0 1.00011E7</TopLeftCorner>  
          <TileWidth>256</TileWidth> 
          <TileHeight>256</TileHeight>
          <MatrixWidth>20868</MatrixWidth> 
            <MatrixHeight>17576</MatrixHeight>
          </TileMatrix>
          <TileMatrix>
          <ows:Identifier>8</ows:Identifier>
          <ScaleDenominator>1889.8847321501792</ScaleDenominator>
          <TopLeftCorner>-5317800.0 1.00011E7</TopLeftCorner>  
          <TileWidth>256</TileWidth> 
          <TileHeight>256</TileHeight>
          <MatrixWidth>41736</MatrixWidth> 
            <MatrixHeight>35151</MatrixHeight>
          </TileMatrix>
          <TileMatrix>
          <ows:Identifier>9</ows:Identifier>
          <ScaleDenominator>944.9423660750896</ScaleDenominator>
          <TopLeftCorner>-5317800.0 1.00011E7</TopLeftCorner>  
          <TileWidth>256</TileWidth> 
          <TileHeight>256</TileHeight>
          <MatrixWidth>83472</MatrixWidth> 
            <MatrixHeight>70301</MatrixHeight>
          </TileMatrix>
          <TileMatrix>
          <ows:Identifier>10</ows:Identifier>
          <ScaleDenominator>472.4711830375448</ScaleDenominator>
          <TopLeftCorner>-5317800.0 1.00011E7</TopLeftCorner>  
          <TileWidth>256</TileWidth> 
          <TileHeight>256</TileHeight>
          <MatrixWidth>166943</MatrixWidth> 
            <MatrixHeight>140601</MatrixHeight>
          </TileMatrix>
          <TileMatrix>
          <ows:Identifier>11</ows:Identifier>
          <ScaleDenominator>236.2355915187724</ScaleDenominator>
          <TopLeftCorner>-5317800.0 1.00011E7</TopLeftCorner>  
          <TileWidth>256</TileWidth> 
          <TileHeight>256</TileHeight>
          <MatrixWidth>333886</MatrixWidth> 
            <MatrixHeight>281202</MatrixHeight>
          </TileMatrix>
          <TileMatrix>
          <ows:Identifier>12</ows:Identifier>
          <ScaleDenominator>118.1177957593862</ScaleDenominator>
          <TopLeftCorner>-5317800.0 1.00011E7</TopLeftCorner>  
          <TileWidth>256</TileWidth> 
          <TileHeight>256</TileHeight>
          <MatrixWidth>667771</MatrixWidth> 
            <MatrixHeight>562404</MatrixHeight>
          </TileMatrix>
          </TileMatrixSet>
   </Contents>
<ServiceMetadataURL xlink:href="https://map.stjohns.ca/mapsrv/rest/services/Verint/Verint_topo_Hybrid/MapServer/WMTS/1.0.0/WMTSCapabilities.xml" /> 
</Capabilities>
